Package: MinimumDistance Version: 1.50.0 Command: rm -rf MinimumDistance.buildbin-libdir && mkdir MinimumDistance.buildbin-libdir && /Users/biocbuild/BBS/utils/build-universal.sh MinimumDistance_1.50.0.tar.gz /Library/Frameworks/R.framework/Resources/bin/R MinimumDistance.buildbin-libdir StartedAt: 2025-02-05 16:40:25 -0500 (Wed, 05 Feb 2025) EndedAt: 2025-02-05 16:41:27 -0500 (Wed, 05 Feb 2025) EllapsedTime: 62.1 seconds RetCode: 0 Status: OK PackageFile: MinimumDistance_1.50.0.tgz PackageFileSize: 3.654 MiB