Package: MinimumDistance Version: 1.50.0 Command: /Library/Frameworks/R.framework/Resources/bin/R CMD build --keep-empty-dirs --no-resave-data MinimumDistance StartedAt: 2025-02-04 03:28:06 -0500 (Tue, 04 Feb 2025) EndedAt: 2025-02-04 03:29:52 -0500 (Tue, 04 Feb 2025) EllapsedTime: 106.4 seconds RetCode: 0 Status: OK PackageFile: MinimumDistance_1.50.0.tar.gz PackageFileSize: 2.553 MiB