Package: MinimumDistance Version: 1.50.0 Command: rm -rf MinimumDistance.buildbin-libdir && mkdir MinimumDistance.buildbin-libdir && /Users/biocbuild/BBS/utils/build-universal.sh MinimumDistance_1.50.0.tar.gz /Library/Frameworks/R.framework/Resources/bin/R MinimumDistance.buildbin-libdir StartedAt: 2025-02-04 13:26:45 -0500 (Tue, 04 Feb 2025) EndedAt: 2025-02-04 13:29:39 -0500 (Tue, 04 Feb 2025) EllapsedTime: 174.2 seconds RetCode: 0 Status: OK PackageFile: MinimumDistance_1.50.0.tgz PackageFileSize: 3.655 MiB