Package: MinimumDistance Version: 1.50.0 Command: /Library/Frameworks/R.framework/Resources/bin/R CMD check --install=check:MinimumDistance.install-out.txt --library=/Library/Frameworks/R.framework/Resources/library --no-vignettes --timings MinimumDistance_1.50.0.tar.gz StartedAt: 2025-02-04 06:24:38 -0500 (Tue, 04 Feb 2025) EndedAt: 2025-02-04 06:35:06 -0500 (Tue, 04 Feb 2025) EllapsedTime: 628.0 seconds RetCode: 0 Status: WARNINGS CheckDir: MinimumDistance.Rcheck Warnings: 4