Package: MinimumDistance Version: 1.50.0 Command: /Library/Frameworks/R.framework/Resources/bin/R CMD INSTALL MinimumDistance StartedAt: 2025-02-03 16:50:10 -0500 (Mon, 03 Feb 2025) EndedAt: 2025-02-03 16:51:56 -0500 (Mon, 03 Feb 2025) EllapsedTime: 106.4 seconds RetCode: 0 Status: OK