Package: MinimumDistance Version: 1.50.0 Command: /home/biocbuild/bbs-3.20-bioc/R/bin/R CMD build --keep-empty-dirs --no-resave-data --md5 MinimumDistance StartedAt: 2025-02-03 18:14:03 -0500 (Mon, 03 Feb 2025) EndedAt: 2025-02-03 18:15:17 -0500 (Mon, 03 Feb 2025) EllapsedTime: 74.1 seconds RetCode: 0 Status: OK PackageFile: MinimumDistance_1.50.0.tar.gz PackageFileSize: 2.557 MiB