Package: MinimumDistance Version: 1.50.0 Command: /home/biocbuild/bbs-3.20-bioc/R/bin/R CMD check --install=check:MinimumDistance.install-out.txt --library=/home/biocbuild/bbs-3.20-bioc/R/site-library --timings MinimumDistance_1.50.0.tar.gz StartedAt: 2025-02-04 00:09:41 -0500 (Tue, 04 Feb 2025) EndedAt: 2025-02-04 00:14:59 -0500 (Tue, 04 Feb 2025) EllapsedTime: 318.3 seconds RetCode: 0 Status: WARNINGS CheckDir: MinimumDistance.Rcheck Warnings: 4