Package: MinimumDistance Version: 1.50.0 Command: /home/biocbuild/bbs-3.20-bioc/R/bin/R CMD INSTALL MinimumDistance StartedAt: 2025-02-03 16:10:08 -0500 (Mon, 03 Feb 2025) EndedAt: 2025-02-03 16:11:03 -0500 (Mon, 03 Feb 2025) EllapsedTime: 55.0 seconds RetCode: 0 Status: OK