Package: MinimumDistance Version: 1.50.0 Command: rm -rf MinimumDistance.buildbin-libdir && mkdir MinimumDistance.buildbin-libdir && F:\biocbuild\bbs-3.20-bioc\R\bin\R.exe CMD INSTALL --build --library=MinimumDistance.buildbin-libdir MinimumDistance_1.50.0.tar.gz StartedAt: 2025-02-11 08:53:17 -0500 (Tue, 11 Feb 2025) EndedAt: 2025-02-11 08:58:05 -0500 (Tue, 11 Feb 2025) EllapsedTime: 287.7 seconds RetCode: 0 Status: OK PackageFile: MinimumDistance_1.50.0.zip PackageFileSize: 3.513 MiB