Package: MinimumDistance Version: 1.50.0 Command: F:\biocbuild\bbs-3.20-bioc\R\bin\R.exe CMD INSTALL MinimumDistance StartedAt: 2025-02-10 17:07:21 -0500 (Mon, 10 Feb 2025) EndedAt: 2025-02-10 17:10:17 -0500 (Mon, 10 Feb 2025) EllapsedTime: 176.3 seconds RetCode: 0 Status: OK