Package: MinimumDistance Version: 1.50.0 Command: /home/biocbuild/R/R/bin/R CMD build --keep-empty-dirs --no-resave-data MinimumDistance StartedAt: 2025-02-04 00:59:28 -0000 (Tue, 04 Feb 2025) EndedAt: 2025-02-04 01:01:03 -0000 (Tue, 04 Feb 2025) EllapsedTime: 95.1 seconds RetCode: 0 Status: OK PackageFile: MinimumDistance_1.50.0.tar.gz PackageFileSize: 2.538 MiB