Package: ModCon Version: 1.14.0 Command: rm -rf ModCon.buildbin-libdir && mkdir ModCon.buildbin-libdir && /Users/biocbuild/BBS/utils/build-universal.sh ModCon_1.14.0.tar.gz /Library/Frameworks/R.framework/Resources/bin/R ModCon.buildbin-libdir StartedAt: 2025-02-12 15:57:42 -0500 (Wed, 12 Feb 2025) EndedAt: 2025-02-12 15:57:55 -0500 (Wed, 12 Feb 2025) EllapsedTime: 12.6 seconds RetCode: 0 Status: OK PackageFile: ModCon_1.14.0.tgz PackageFileSize: 1.966 MiB