Package: ModCon Version: 1.14.0 Command: /Library/Frameworks/R.framework/Resources/bin/R CMD INSTALL ModCon StartedAt: 2025-02-10 15:07:53 -0500 (Mon, 10 Feb 2025) EndedAt: 2025-02-10 15:08:05 -0500 (Mon, 10 Feb 2025) EllapsedTime: 12.5 seconds RetCode: 0 Status: OK