Package: ModCon Version: 1.14.0 Command: /home/biocbuild/bbs-3.20-bioc/R/bin/R CMD INSTALL ModCon StartedAt: 2025-02-10 15:15:07 -0500 (Mon, 10 Feb 2025) EndedAt: 2025-02-10 15:15:15 -0500 (Mon, 10 Feb 2025) EllapsedTime: 7.6 seconds RetCode: 0 Status: OK