Package: ModCon Version: 1.14.0 Command: chmod a+r ModCon -R && F:\biocbuild\bbs-3.20-bioc\R\bin\R.exe CMD build --keep-empty-dirs --no-resave-data ModCon StartedAt: 2025-02-10 20:22:31 -0500 (Mon, 10 Feb 2025) EndedAt: 2025-02-10 20:25:25 -0500 (Mon, 10 Feb 2025) EllapsedTime: 174.1 seconds RetCode: 0 Status: OK PackageFile: ModCon_1.14.0.tar.gz PackageFileSize: 1.911 MiB