Package: ModCon Version: 1.14.0 Command: /home/biocbuild/R/R/bin/R CMD check --install=check:ModCon.install-out.txt --library=/home/biocbuild/R/R/site-library --no-vignettes --timings ModCon_1.14.0.tar.gz StartedAt: 2025-02-04 08:56:19 -0000 (Tue, 04 Feb 2025) EndedAt: 2025-02-04 09:01:42 -0000 (Tue, 04 Feb 2025) EllapsedTime: 323.4 seconds RetCode: 0 Status: OK CheckDir: ModCon.Rcheck Warnings: 0