Package: Modstrings Version: 1.22.0 Command: /Library/Frameworks/R.framework/Resources/bin/R CMD check --install=check:Modstrings.install-out.txt --library=/Library/Frameworks/R.framework/Resources/library --no-vignettes --timings Modstrings_1.22.0.tar.gz StartedAt: 2025-02-05 02:27:10 -0500 (Wed, 05 Feb 2025) EndedAt: 2025-02-05 02:29:35 -0500 (Wed, 05 Feb 2025) EllapsedTime: 145.5 seconds RetCode: 0 Status: OK CheckDir: Modstrings.Rcheck Warnings: 0