Package: Modstrings Version: 1.22.0 Command: /Library/Frameworks/R.framework/Resources/bin/R CMD check --install=check:Modstrings.install-out.txt --library=/Library/Frameworks/R.framework/Resources/library --no-vignettes --timings Modstrings_1.22.0.tar.gz StartedAt: 2025-02-04 06:35:30 -0500 (Tue, 04 Feb 2025) EndedAt: 2025-02-04 06:40:36 -0500 (Tue, 04 Feb 2025) EllapsedTime: 306.0 seconds RetCode: 0 Status: OK CheckDir: Modstrings.Rcheck Warnings: 0