Package: Modstrings Version: 1.22.0 Command: rm -rf Modstrings.buildbin-libdir && mkdir Modstrings.buildbin-libdir && F:\biocbuild\bbs-3.20-bioc\R\bin\R.exe CMD INSTALL --build --library=Modstrings.buildbin-libdir Modstrings_1.22.0.tar.gz StartedAt: 2025-02-11 08:55:07 -0500 (Tue, 11 Feb 2025) EndedAt: 2025-02-11 08:56:40 -0500 (Tue, 11 Feb 2025) EllapsedTime: 92.7 seconds RetCode: 0 Status: OK PackageFile: Modstrings_1.22.0.zip PackageFileSize: 1.356 MiB