Package: Modstrings Version: 1.22.0 Command: chmod a+r Modstrings -R && F:\biocbuild\bbs-3.20-bioc\R\bin\R.exe CMD build --keep-empty-dirs --no-resave-data Modstrings StartedAt: 2025-02-03 20:27:57 -0500 (Mon, 03 Feb 2025) EndedAt: 2025-02-03 20:29:01 -0500 (Mon, 03 Feb 2025) EllapsedTime: 64.7 seconds RetCode: 0 Status: OK PackageFile: Modstrings_1.22.0.tar.gz PackageFileSize: 824 KiB