Package: Moonlight2R Version: 1.4.0 Command: /Library/Frameworks/R.framework/Resources/bin/R CMD check --install=check:Moonlight2R.install-out.txt --library=/Library/Frameworks/R.framework/Resources/library --no-vignettes --timings Moonlight2R_1.4.0.tar.gz StartedAt: 2025-02-12 01:57:00 -0500 (Wed, 12 Feb 2025) EndedAt: 2025-02-12 02:10:07 -0500 (Wed, 12 Feb 2025) EllapsedTime: 786.4 seconds RetCode: 0 Status: OK CheckDir: Moonlight2R.Rcheck Warnings: 0