Package: Moonlight2R Version: 1.4.0 Command: /Library/Frameworks/R.framework/Resources/bin/R CMD build --keep-empty-dirs --no-resave-data Moonlight2R StartedAt: 2025-02-03 20:28:22 -0500 (Mon, 03 Feb 2025) EndedAt: 2025-02-03 20:45:06 -0500 (Mon, 03 Feb 2025) EllapsedTime: 1003.5 seconds RetCode: 0 Status: OK PackageFile: Moonlight2R_1.4.0.tar.gz PackageFileSize: 4.509 MiB