Package: Moonlight2R Version: 1.4.0 Command: /home/biocbuild/bbs-3.20-bioc/R/bin/R CMD check --install=check:Moonlight2R.install-out.txt --library=/home/biocbuild/bbs-3.20-bioc/R/site-library --timings Moonlight2R_1.4.0.tar.gz StartedAt: 2025-02-04 00:19:35 -0500 (Tue, 04 Feb 2025) EndedAt: 2025-02-04 00:35:17 -0500 (Tue, 04 Feb 2025) EllapsedTime: 942.0 seconds RetCode: 0 Status: OK CheckDir: Moonlight2R.Rcheck Warnings: 0