Package: Moonlight2R Version: 1.4.0 Command: chmod a+r Moonlight2R -R && F:\biocbuild\bbs-3.20-bioc\R\bin\R.exe CMD build --keep-empty-dirs --no-resave-data Moonlight2R StartedAt: 2025-02-10 20:24:03 -0500 (Mon, 10 Feb 2025) EndedAt: 2025-02-10 20:32:04 -0500 (Mon, 10 Feb 2025) EllapsedTime: 480.2 seconds RetCode: 0 Status: OK PackageFile: Moonlight2R_1.4.0.tar.gz PackageFileSize: 4.487 MiB