Package: Moonlight2R Version: 1.4.0 Command: /home/biocbuild/R/R/bin/R CMD check --install=check:Moonlight2R.install-out.txt --library=/home/biocbuild/R/R/site-library --no-vignettes --timings Moonlight2R_1.4.0.tar.gz StartedAt: 2025-02-11 08:15:28 -0000 (Tue, 11 Feb 2025) EndedAt: 2025-02-11 08:28:31 -0000 (Tue, 11 Feb 2025) EllapsedTime: 783.0 seconds RetCode: 0 Status: WARNINGS CheckDir: Moonlight2R.Rcheck Warnings: 1