Package: Moonlight2R Version: 1.4.0 Command: /home/biocbuild/bbs-3.20-bioc/R/bin/R CMD check --install=check:Moonlight2R.install-out.txt --library=/home/biocbuild/bbs-3.20-bioc/R/site-library --timings Moonlight2R_1.4.0.tar.gz StartedAt: 2024-11-20 06:02:21 -0500 (Wed, 20 Nov 2024) EndedAt: 2024-11-20 06:16:31 -0500 (Wed, 20 Nov 2024) EllapsedTime: 849.7 seconds RetCode: 0 Status: OK CheckDir: Moonlight2R.Rcheck Warnings: 0