Package: MoonlightR Version: 1.32.0 Command: rm -rf MoonlightR.buildbin-libdir && mkdir MoonlightR.buildbin-libdir && /Users/biocbuild/BBS/utils/build-universal.sh MoonlightR_1.32.0.tar.gz /Library/Frameworks/R.framework/Resources/bin/R MoonlightR.buildbin-libdir StartedAt: 2025-02-01 15:49:15 -0500 (Sat, 01 Feb 2025) EndedAt: 2025-02-01 15:50:25 -0500 (Sat, 01 Feb 2025) EllapsedTime: 70.2 seconds RetCode: 0 Status: OK PackageFile: MoonlightR_1.32.0.tgz PackageFileSize: 10.04 MiB