Package: MoonlightR Version: 1.32.0 Command: /Library/Frameworks/R.framework/Resources/bin/R CMD check --install=check:MoonlightR.install-out.txt --library=/Library/Frameworks/R.framework/Resources/library --no-vignettes --timings MoonlightR_1.32.0.tar.gz StartedAt: 2025-02-01 01:50:44 -0500 (Sat, 01 Feb 2025) EndedAt: 2025-02-01 01:58:18 -0500 (Sat, 01 Feb 2025) EllapsedTime: 454.0 seconds RetCode: 0 Status: OK CheckDir: MoonlightR.Rcheck Warnings: 0