Package: MoonlightR Version: 1.32.0 Command: /Library/Frameworks/R.framework/Resources/bin/R CMD INSTALL MoonlightR StartedAt: 2025-01-30 17:23:53 -0500 (Thu, 30 Jan 2025) EndedAt: 2025-01-30 17:24:51 -0500 (Thu, 30 Jan 2025) EllapsedTime: 57.4 seconds RetCode: 0 Status: OK