Package: MoonlightR Version: 1.32.0 Command: /Library/Frameworks/R.framework/Resources/bin/R CMD check --install=check:MoonlightR.install-out.txt --library=/Library/Frameworks/R.framework/Resources/library --no-vignettes --timings MoonlightR_1.32.0.tar.gz StartedAt: 2025-01-31 06:46:01 -0500 (Fri, 31 Jan 2025) EndedAt: 2025-01-31 06:59:27 -0500 (Fri, 31 Jan 2025) EllapsedTime: 806.0 seconds RetCode: 0 Status: OK CheckDir: MoonlightR.Rcheck Warnings: 0