Package: MoonlightR Version: 1.32.0 Command: /home/biocbuild/bbs-3.20-bioc/R/bin/R CMD build --keep-empty-dirs --no-resave-data --md5 MoonlightR StartedAt: 2025-01-30 18:09:22 -0500 (Thu, 30 Jan 2025) EndedAt: 2025-01-30 18:11:29 -0500 (Thu, 30 Jan 2025) EllapsedTime: 127.2 seconds RetCode: 0 Status: OK PackageFile: MoonlightR_1.32.0.tar.gz PackageFileSize: 14.75 MiB