Package: MoonlightR Version: 1.32.0 Command: /home/biocbuild/bbs-3.20-bioc/R/bin/R CMD INSTALL MoonlightR StartedAt: 2025-01-30 15:45:50 -0500 (Thu, 30 Jan 2025) EndedAt: 2025-01-30 15:46:39 -0500 (Thu, 30 Jan 2025) EllapsedTime: 49.2 seconds RetCode: 0 Status: OK