Package: MoonlightR Version: 1.32.0 Command: rm -rf MoonlightR.buildbin-libdir && mkdir MoonlightR.buildbin-libdir && F:\biocbuild\bbs-3.20-bioc\R\bin\R.exe CMD INSTALL --build --library=MoonlightR.buildbin-libdir MoonlightR_1.32.0.tar.gz StartedAt: 2025-01-31 09:05:29 -0500 (Fri, 31 Jan 2025) EndedAt: 2025-01-31 09:06:21 -0500 (Fri, 31 Jan 2025) EllapsedTime: 52.0 seconds RetCode: 0 Status: OK PackageFile: MoonlightR_1.32.0.zip PackageFileSize: 8.66 MiB