Package: MoonlightR Version: 1.32.0 Command: F:\biocbuild\bbs-3.20-bioc\R\bin\R.exe CMD check --no-multiarch --install=check:MoonlightR.install-out.txt --library=F:\biocbuild\bbs-3.20-bioc\R\library --no-vignettes --timings MoonlightR_1.32.0.tar.gz StartedAt: 2025-01-31 04:07:41 -0500 (Fri, 31 Jan 2025) EndedAt: 2025-01-31 04:13:33 -0500 (Fri, 31 Jan 2025) EllapsedTime: 352.2 seconds RetCode: 0 Status: OK CheckDir: MoonlightR.Rcheck Warnings: 0