Package: MoonlightR Version: 1.32.0 Command: F:\biocbuild\bbs-3.20-bioc\R\bin\R.exe CMD INSTALL MoonlightR StartedAt: 2025-01-30 16:31:48 -0500 (Thu, 30 Jan 2025) EndedAt: 2025-01-30 16:32:44 -0500 (Thu, 30 Jan 2025) EllapsedTime: 55.4 seconds RetCode: 0 Status: OK