Package: MoonlightR Version: 1.32.0 Command: /home/biocbuild/R/R/bin/R CMD build --keep-empty-dirs --no-resave-data MoonlightR StartedAt: 2025-01-31 01:04:20 -0000 (Fri, 31 Jan 2025) EndedAt: 2025-01-31 01:06:46 -0000 (Fri, 31 Jan 2025) EllapsedTime: 146.1 seconds RetCode: 0 Status: OK PackageFile: MoonlightR_1.32.0.tar.gz PackageFileSize: 11.61 MiB