Package: MoonlightR Version: 1.32.0 Command: /home/biocbuild/R/R/bin/R CMD check --install=check:MoonlightR.install-out.txt --library=/home/biocbuild/R/R/site-library --no-vignettes --timings MoonlightR_1.32.0.tar.gz StartedAt: 2025-01-31 08:16:52 -0000 (Fri, 31 Jan 2025) EndedAt: 2025-01-31 08:23:04 -0000 (Fri, 31 Jan 2025) EllapsedTime: 371.5 seconds RetCode: 0 Status: WARNINGS CheckDir: MoonlightR.Rcheck Warnings: 1