Package: MoonlightR Version: 1.32.0 Command: /home/biocbuild/R/R/bin/R CMD INSTALL MoonlightR StartedAt: 2025-01-30 20:52:07 -0000 (Thu, 30 Jan 2025) EndedAt: 2025-01-30 20:53:07 -0000 (Thu, 30 Jan 2025) EllapsedTime: 59.6 seconds RetCode: 0 Status: OK