Package: MotifDb Version: 1.48.0 Command: /Library/Frameworks/R.framework/Resources/bin/R CMD build --keep-empty-dirs --no-resave-data MotifDb StartedAt: 2025-02-04 04:02:41 -0500 (Tue, 04 Feb 2025) EndedAt: 2025-02-04 04:03:53 -0500 (Tue, 04 Feb 2025) EllapsedTime: 72.4 seconds RetCode: 0 Status: OK PackageFile: MotifDb_1.48.0.tar.gz PackageFileSize: 3.295 MiB