Package: MotifDb Version: 1.48.0 Command: /Library/Frameworks/R.framework/Resources/bin/R CMD build --keep-empty-dirs --no-resave-data MotifDb StartedAt: 2025-02-03 20:33:08 -0500 (Mon, 03 Feb 2025) EndedAt: 2025-02-03 20:35:56 -0500 (Mon, 03 Feb 2025) EllapsedTime: 167.5 seconds RetCode: 0 Status: OK PackageFile: MotifDb_1.48.0.tar.gz PackageFileSize: 3.295 MiB