Package: MotifDb Version: 1.48.0 Command: /Library/Frameworks/R.framework/Resources/bin/R CMD INSTALL MotifDb StartedAt: 2025-02-03 15:40:35 -0500 (Mon, 03 Feb 2025) EndedAt: 2025-02-03 15:42:06 -0500 (Mon, 03 Feb 2025) EllapsedTime: 91.3 seconds RetCode: 0 Status: OK