Package: MotifDb Version: 1.48.0 Command: /home/biocbuild/bbs-3.20-bioc/R/bin/R CMD check --install=check:MotifDb.install-out.txt --library=/home/biocbuild/bbs-3.20-bioc/R/site-library --timings MotifDb_1.48.0.tar.gz StartedAt: 2025-02-04 00:22:13 -0500 (Tue, 04 Feb 2025) EndedAt: 2025-02-04 00:27:43 -0500 (Tue, 04 Feb 2025) EllapsedTime: 330.3 seconds RetCode: 0 Status: WARNINGS CheckDir: MotifDb.Rcheck Warnings: 2