Package: MotifDb Version: 1.48.0 Command: chmod a+r MotifDb -R && F:\biocbuild\bbs-3.20-bioc\R\bin\R.exe CMD build --keep-empty-dirs --no-resave-data MotifDb StartedAt: 2025-02-10 20:26:54 -0500 (Mon, 10 Feb 2025) EndedAt: 2025-02-10 20:28:08 -0500 (Mon, 10 Feb 2025) EllapsedTime: 74.1 seconds RetCode: 0 Status: OK PackageFile: MotifDb_1.48.0.tar.gz PackageFileSize: 3.223 MiB