Package: MotifDb Version: 1.48.0 Command: F:\biocbuild\bbs-3.20-bioc\R\bin\R.exe CMD INSTALL MotifDb StartedAt: 2025-02-10 16:08:29 -0500 (Mon, 10 Feb 2025) EndedAt: 2025-02-10 16:09:32 -0500 (Mon, 10 Feb 2025) EllapsedTime: 63.1 seconds RetCode: 0 Status: OK