Package: MsBackendMassbank Version: 1.14.0 Command: rm -rf MsBackendMassbank.buildbin-libdir && mkdir MsBackendMassbank.buildbin-libdir && /Users/biocbuild/BBS/utils/build-universal.sh MsBackendMassbank_1.14.0.tar.gz /Library/Frameworks/R.framework/Resources/bin/R MsBackendMassbank.buildbin-libdir StartedAt: 2025-02-05 16:47:50 -0500 (Wed, 05 Feb 2025) EndedAt: 2025-02-05 16:48:04 -0500 (Wed, 05 Feb 2025) EllapsedTime: 14.7 seconds RetCode: 0 Status: OK PackageFile: MsBackendMassbank_1.14.0.tgz PackageFileSize: 628.6 KiB