Package: MsBackendMassbank Version: 1.14.0 Command: /Library/Frameworks/R.framework/Resources/bin/R CMD INSTALL MsBackendMassbank StartedAt: 2025-02-03 15:53:42 -0500 (Mon, 03 Feb 2025) EndedAt: 2025-02-03 15:53:55 -0500 (Mon, 03 Feb 2025) EllapsedTime: 13.6 seconds RetCode: 0 Status: OK