Package: MsBackendMassbank Version: 1.14.0 Command: /Library/Frameworks/R.framework/Resources/bin/R CMD build --keep-empty-dirs --no-resave-data MsBackendMassbank StartedAt: 2025-02-03 20:36:19 -0500 (Mon, 03 Feb 2025) EndedAt: 2025-02-03 20:37:21 -0500 (Mon, 03 Feb 2025) EllapsedTime: 61.5 seconds RetCode: 0 Status: OK PackageFile: MsBackendMassbank_1.14.0.tar.gz PackageFileSize: 418.2 KiB