Package: MsBackendMassbank Version: 1.14.0 Command: /Library/Frameworks/R.framework/Resources/bin/R CMD check --install=check:MsBackendMassbank.install-out.txt --library=/Library/Frameworks/R.framework/Resources/library --no-vignettes --timings MsBackendMassbank_1.14.0.tar.gz StartedAt: 2025-01-31 06:52:07 -0500 (Fri, 31 Jan 2025) EndedAt: 2025-01-31 06:56:13 -0500 (Fri, 31 Jan 2025) EllapsedTime: 246.7 seconds RetCode: 0 Status: OK CheckDir: MsBackendMassbank.Rcheck Warnings: 0