Package: MsBackendMassbank Version: 1.14.0 Command: /home/biocbuild/bbs-3.20-bioc/R/bin/R CMD build --keep-empty-dirs --no-resave-data --md5 MsBackendMassbank StartedAt: 2025-02-03 18:21:49 -0500 (Mon, 03 Feb 2025) EndedAt: 2025-02-03 18:22:11 -0500 (Mon, 03 Feb 2025) EllapsedTime: 22.0 seconds RetCode: 0 Status: OK PackageFile: MsBackendMassbank_1.14.0.tar.gz PackageFileSize: 414.1 KiB