Package: MsBackendMassbank Version: 1.14.0 Command: /home/biocbuild/bbs-3.20-bioc/R/bin/R CMD check --install=check:MsBackendMassbank.install-out.txt --library=/home/biocbuild/bbs-3.20-bioc/R/site-library --timings MsBackendMassbank_1.14.0.tar.gz StartedAt: 2025-02-04 00:26:14 -0500 (Tue, 04 Feb 2025) EndedAt: 2025-02-04 00:28:05 -0500 (Tue, 04 Feb 2025) EllapsedTime: 111.2 seconds RetCode: 0 Status: OK CheckDir: MsBackendMassbank.Rcheck Warnings: 0